BEGIN:VCALENDAR

METHOD:PUBLISH
PRODID:-//Typo3 CMS\, News Event Extension

VERSION:2.0


BEGIN:VEVENT
SEQUENCE:0
DTSTART:20260618T123000Z
DTEND:20260618T140000Z
DTSTAMP:20260420T123908Z
SUMMARY:Regina Feldmann: Einfach Weike. Nicht perfekt\, aber genau richtig&nbsp\;
LOCATION:
DESCRIPTION:Kinderbuchlesung ab 9\r\nin Frankfurt\r\nEintritt nach Anmeldung frei
UID:tt_news2969@literaturhaus-frankfurt.de

URL;VALUE=URI:https://literaturhaus-frankfurt.de/https://literaturhaus-frankfurt.de/programm/termine/regina-feldmann-einfach-weike-nicht-perfekt-aber-genau-richtig-nbsp-2026-06-18/?tx_ttnews%5BbackPid%5D=158
END:VEVENT

END:VCALENDAR