BEGIN:VCALENDAR

METHOD:PUBLISH
PRODID:-//Typo3 CMS\, News Event Extension

VERSION:2.0


BEGIN:VEVENT
SEQUENCE:0
DTSTART:20260619T083000Z
DTEND:20260619T100000Z
DTSTAMP:20260416T140714Z
SUMMARY:Josephine Mark: Red 
LOCATION:
DESCRIPTION:Comic-Lesung ab Klasse 6\r\nin Offenbach
UID:tt_news2929@literaturhaus-frankfurt.de

URL;VALUE=URI:https://literaturhaus-frankfurt.de/https://literaturhaus-frankfurt.de/programm/termine/josephine-mark-red-2026-06-19/?tx_ttnews%5BbackPid%5D=158
END:VEVENT

END:VCALENDAR