BEGIN:VCALENDAR

METHOD:PUBLISH
PRODID:-//Typo3 CMS\, News Event Extension

VERSION:2.0


BEGIN:VEVENT
SEQUENCE:0
DTSTART:20260614T120000Z
DTEND:20260614T133000Z
DTSTAMP:20260420T081051Z
SUMMARY:Alexander Steffensmeier: Lieselotte auf großer Fahrt
LOCATION:
DESCRIPTION:Bilderbuchlesung ab 4\r\nin Frankfurt
UID:tt_news2888@literaturhaus-frankfurt.de

URL;VALUE=URI:https://literaturhaus-frankfurt.de/https://literaturhaus-frankfurt.de/programm/termine/alexander-steffensmeier-lieselotte-auf-grosser-fahrt-2026-06-14/?tx_ttnews%5BbackPid%5D=158
END:VEVENT

END:VCALENDAR