BEGIN:VCALENDAR

METHOD:PUBLISH
PRODID:-//Typo3 CMS\, News Event Extension

VERSION:2.0


BEGIN:VEVENT
SEQUENCE:0
DTSTART:20220628T173000Z
DTEND:20220628T190000Z
DTSTAMP:20220725T153645Z
SUMMARY:Verschoben! Schöne Aussichten – Das Frankfurter Literaturgespräch 
LOCATION:
DESCRIPTION:Neuer Termin: 13.07.\, 19.30 h\r\nHybridveranstaltung\r\nMit Daniel Schreiber\, Alf Mentzer \r\nund Miryam Schellbach
UID:tt_news2107@literaturhaus-frankfurt.de

URL;VALUE=URI:https://literaturhaus-frankfurt.de/https://literaturhaus-frankfurt.de/programm/termine/verschoben-schoene-aussichten-das-frankfurter-literaturgespraech-2022-06-28/?tx_ttnews%5BbackPid%5D=23
END:VEVENT

END:VCALENDAR