BEGIN:VCALENDAR

METHOD:PUBLISH
PRODID:-//Typo3 CMS\, News Event Extension

VERSION:2.0


BEGIN:VEVENT
SEQUENCE:0
DTSTART:20260619T133000Z
DTEND:20260619T150000Z
DTSTAMP:20260420T064703Z
SUMMARY:Torben Kuhlmann: Die graue Stadt&nbsp\;
LOCATION:
DESCRIPTION:Kinderbuchlesung ab 6\r\nin Frankfurt
UID:tt_news2903@literaturhaus-frankfurt.de

URL;VALUE=URI:https://literaturhaus-frankfurt.de/https://literaturhaus-frankfurt.de/programm/termine/torben-kuhlmann-die-graue-stadt-nbsp-2026-06-19/?tx_ttnews%5BbackPid%5D=23
END:VEVENT

END:VCALENDAR