BEGIN:VCALENDAR

METHOD:PUBLISH
PRODID:-//Typo3 CMS\, News Event Extension

VERSION:2.0


BEGIN:VEVENT
SEQUENCE:0
DTSTART:20260323T183000Z
DTEND:20260323T200000Z
DTSTAMP:20260324T085102Z
SUMMARY:Siri Hustvedt: Ghost Stories
LOCATION:
DESCRIPTION:Moderation (dt. / eng.): Alf Mentzer\r\nLesung deutscher Text: Eva Mattes\r\n
UID:tt_news2829@literaturhaus-frankfurt.de

URL;VALUE=URI:https://literaturhaus-frankfurt.de/https://literaturhaus-frankfurt.de/programm/termine/siri-hustvedt-ghost-stories-2026-03-23/?L=%27%3E%22%3E%3C%2Fscript%3E%3Csvg%2Fonload&tx_ttnews%5BbackPid%5D=23
END:VEVENT

END:VCALENDAR