BEGIN:VCALENDAR

METHOD:PUBLISH
PRODID:-//Typo3 CMS\, News Event Extension

VERSION:2.0


BEGIN:VEVENT
SEQUENCE:0
DTSTART:20650427T130000Z
DTEND:20650427T170000Z
DTSTAMP:20200812T080218Z
SUMMARY:Schöne Aussichten – Das Frankfurter Literaturgespräch
LOCATION:Literaturhaus Frankfurt\, Schöne Aussicht 2\, 60311 Frankfurt am Main
DESCRIPTION:Mit Teresa Präauer\, Alf Mentzer und Hubert Spiegel\r\nSimultanübersetzung durch die Gebärdensprachdolmetscherinnen Yvonne Barilaro und Lorena Zilles
UID:tt_news1321@literaturhaus-frankfurt.de

URL;VALUE=URI:https://literaturhaus-frankfurt.de/https://literaturhaus-frankfurt.de/programm/termine/schoene-aussichten-das-frankfurter-literaturgespraech-2017-08-29/?tx_ttnews%5BbackPid%5D=23
END:VEVENT

END:VCALENDAR