BEGIN:VCALENDAR

METHOD:PUBLISH
PRODID:-//Typo3 CMS\, News Event Extension

VERSION:2.0


BEGIN:VEVENT
SEQUENCE:0
DTSTART:20260618T083000Z
DTEND:20260618T100000Z
DTSTAMP:20260420T100121Z
SUMMARY:Preisverleihung „Lesekünstler*in des Jahres 2026“: Sarah Welk
LOCATION:
DESCRIPTION:in Frankfurt\r\nEintritt nach Anmeldung frei
UID:tt_news2936@literaturhaus-frankfurt.de

URL;VALUE=URI:https://literaturhaus-frankfurt.de/https://literaturhaus-frankfurt.de/programm/termine/preisverleihung-lesekuenstler-in-des-jahres-2026-sarah-welk-2026-06-18/?tx_ttnews%5BbackPid%5D=23
END:VEVENT

END:VCALENDAR