BEGIN:VCALENDAR

METHOD:PUBLISH
PRODID:-//Typo3 CMS\, News Event Extension

VERSION:2.0


BEGIN:VEVENT
SEQUENCE:0
DTSTART:20260615T130000Z
DTEND:20260615T143000Z
DTSTAMP:20260420T080821Z
SUMMARY:Philip Waechter: Jetzt geht's los!
LOCATION:
DESCRIPTION:Wimmelbuch-Lesung\r\nin Frankfurt\r\nEintritt frei
UID:tt_news2946@literaturhaus-frankfurt.de

URL;VALUE=URI:https://literaturhaus-frankfurt.de/https://literaturhaus-frankfurt.de/programm/termine/philip-waechter-jetzt-geht-s-los-2026-06-15/?tx_ttnews%5BbackPid%5D=23
END:VEVENT

END:VCALENDAR