BEGIN:VCALENDAR

METHOD:PUBLISH
PRODID:-//Typo3 CMS\, News Event Extension

VERSION:2.0


BEGIN:VEVENT
SEQUENCE:0
DTSTART:20260615T133000Z
DTEND:20260615T150000Z
DTSTAMP:20260420T143615Z
SUMMARY:Nikolaus Heidelbach: Simone
LOCATION:
DESCRIPTION:Bilder-Buch-Nachmittag ab 6\r\nin Frankfurt
UID:tt_news2899@literaturhaus-frankfurt.de

URL;VALUE=URI:https://literaturhaus-frankfurt.de/https://literaturhaus-frankfurt.de/programm/termine/nikolaus-heidelbach-simone-2026-06-15/?tx_ttnews%5BbackPid%5D=23
END:VEVENT

END:VCALENDAR