BEGIN:VCALENDAR

METHOD:PUBLISH
PRODID:-//Typo3 CMS\, News Event Extension

VERSION:2.0


BEGIN:VEVENT
SEQUENCE:0
DTSTART:20260616T133000Z
DTEND:20260616T150000Z
DTSTAMP:20260420T064446Z
SUMMARY:Moni Port & Claudia Weikert: Shrimpie & ich 
LOCATION:
DESCRIPTION:Comic-Nachmittag ab 6 Jahren\r\nin Frankfurt
UID:tt_news2891@literaturhaus-frankfurt.de

URL;VALUE=URI:https://literaturhaus-frankfurt.de/https://literaturhaus-frankfurt.de/programm/termine/moni-port-claudia-weikert-shrimpie-ich-2026-06-16/?tx_ttnews%5BbackPid%5D=23
END:VEVENT

END:VCALENDAR