BEGIN:VCALENDAR

METHOD:PUBLISH
PRODID:-//Typo3 CMS\, News Event Extension

VERSION:2.0


BEGIN:VEVENT
SEQUENCE:0
DTSTART:20630808T130106Z
DTEND:20630808T170106Z
DTSTAMP:20200812T080218Z
SUMMARY:Messeprogramm: Buchpremiere! Christian Kracht: Die Toten
LOCATION:Literaturhaus Frankfurt\, Schöne Aussicht 2\, 60311 Frankfurt am Main
DESCRIPTION:
UID:tt_news1121@literaturhaus-frankfurt.de

URL;VALUE=URI:https://literaturhaus-frankfurt.de/https://literaturhaus-frankfurt.de/programm/termine/messeprogramm-buchpremiere-christian-kracht-die-toten-2016-10-19/?tx_ttnews%5BbackPid%5D=23
END:VEVENT

END:VCALENDAR