BEGIN:VCALENDAR

METHOD:PUBLISH
PRODID:-//Typo3 CMS\, News Event Extension

VERSION:2.0


BEGIN:VEVENT
SEQUENCE:0
DTSTART:20260617T090000Z
DTEND:20260617T103000Z
DTSTAMP:20260420T065037Z
SUMMARY:Massuda Kassem: Chicken Survivor&nbsp\;
LOCATION:
DESCRIPTION:Kinderbuchlesung ab Klasse 1\r\nin Frankfurt\r\nEintritt nach Anmeldung frei
UID:tt_news2983@literaturhaus-frankfurt.de

URL;VALUE=URI:https://literaturhaus-frankfurt.de/https://literaturhaus-frankfurt.de/programm/termine/massuda-kassem-chicken-survivor-nbsp-2026-06-17/?tx_ttnews%5BbackPid%5D=23
END:VEVENT

END:VCALENDAR