BEGIN:VCALENDAR

METHOD:PUBLISH
PRODID:-//Typo3 CMS\, News Event Extension

VERSION:2.0


BEGIN:VEVENT
SEQUENCE:0
DTSTART:20260819T150000Z
DTEND:20260819T163000Z
DTSTAMP:20260415T090600Z
SUMMARY:Literaturkreis für Onkologie-Patientinnen und -Patienten
LOCATION:
DESCRIPTION:der Stiftung Leben mit Krebs in Zusammenarbeit mit dem Literaturhaus Frankfurt am Main e.V.
UID:tt_news2884@literaturhaus-frankfurt.de

URL;VALUE=URI:https://literaturhaus-frankfurt.de/https://literaturhaus-frankfurt.de/programm/termine/literaturkreis-fuer-onkologie-patientinnen-und-patienten-2026-08-19/?tx_ttnews%5BbackPid%5D=23
END:VEVENT

END:VCALENDAR