BEGIN:VCALENDAR

METHOD:PUBLISH
PRODID:-//Typo3 CMS\, News Event Extension

VERSION:2.0


BEGIN:VEVENT
SEQUENCE:0
DTSTART:20650517T130000Z
DTEND:20650517T170000Z
DTSTAMP:20200812T080248Z
SUMMARY:Krimiabend mit Jérôme Leroy: Der Block
LOCATION:Literaturhaus Frankfurt\, Schöne Aussicht 2\, 60311 Frankfurt am Main
DESCRIPTION:Moderation (dt. / frz.): Ruthard Stäblein (hr2-kultur)\r\nDeutscher Text: Jochen Nix
UID:tt_news1329@literaturhaus-frankfurt.de

URL;VALUE=URI:https://literaturhaus-frankfurt.de/https://literaturhaus-frankfurt.de/programm/termine/krimiabend-mit-jerome-leroy-der-block-2017-09-08/?tx_ttnews%5BbackPid%5D=23
END:VEVENT

END:VCALENDAR