BEGIN:VCALENDAR

METHOD:PUBLISH
PRODID:-//Typo3 CMS\, News Event Extension

VERSION:2.0


BEGIN:VEVENT
SEQUENCE:0
DTSTART:19700101T000000Z
DTEND:19700101T030000Z
DTSTAMP:20200812T080248Z
SUMMARY:Kolleg Schöne Aussicht – Auswärts
LOCATION:Literaturhaus Frankfurt\, Schöne Aussicht 2\, 60311 Frankfurt am Main
DESCRIPTION:Exkursion mit Luise Rist und Jay S.
UID:tt_news647@literaturhaus-frankfurt.de

URL;VALUE=URI:https://literaturhaus-frankfurt.de/https://literaturhaus-frankfurt.de/programm/termine/kolleg-schoene-aussicht-auswaerts-2013-06-08/?tx_ttnews%5BbackPid%5D=23
END:VEVENT

END:VCALENDAR