BEGIN:VCALENDAR

METHOD:PUBLISH
PRODID:-//Typo3 CMS\, News Event Extension

VERSION:2.0


BEGIN:VEVENT
SEQUENCE:0
DTSTART:20260616T133000Z
DTEND:20260616T150000Z
DTSTAMP:20260417T122348Z
SUMMARY:Karsten Teich: Übrigens\, ich gehe fort 
LOCATION:
DESCRIPTION:Bilderbuchlesung ab 2\r\nin Rodgau\r\nEintritt nach Anmeldung frei
UID:tt_news2951@literaturhaus-frankfurt.de

URL;VALUE=URI:https://literaturhaus-frankfurt.de/https://literaturhaus-frankfurt.de/programm/termine/karsten-teich-uebrigens-ich-gehe-fort-2026-06-16/?tx_ttnews%5BbackPid%5D=23
END:VEVENT

END:VCALENDAR