BEGIN:VCALENDAR

METHOD:PUBLISH
PRODID:-//Typo3 CMS\, News Event Extension

VERSION:2.0


BEGIN:VEVENT
SEQUENCE:0
DTSTART:20260619T150000Z
DTEND:20260619T163000Z
DTSTAMP:20260420T085721Z
SUMMARY:Josephine Mark: Red&nbsp\;
LOCATION:
DESCRIPTION:Comic-Lesung ab 12\r\nin Frankfurt\r\nEintritt nach Anmeldung frei
UID:tt_news2930@literaturhaus-frankfurt.de

URL;VALUE=URI:https://literaturhaus-frankfurt.de/https://literaturhaus-frankfurt.de/programm/termine/josephine-mark-red-nbsp-2026-06-19/?tx_ttnews%5BbackPid%5D=23
END:VEVENT

END:VCALENDAR