BEGIN:VCALENDAR

METHOD:PUBLISH
PRODID:-//Typo3 CMS\, News Event Extension

VERSION:2.0


BEGIN:VEVENT
SEQUENCE:0
DTSTART:20251207T140000Z
DTEND:20251207T153000Z
DTSTAMP:20251209T091814Z
SUMMARY:Jörg Mühle: Das war doch keine Absicht
LOCATION:
DESCRIPTION:Bilderbuchnachmittag ab 4 Jahren
UID:tt_news2792@literaturhaus-frankfurt.de

URL;VALUE=URI:https://literaturhaus-frankfurt.de/https://literaturhaus-frankfurt.de/programm/termine/joerg-muehle-das-war-doch-keine-absicht-2025-12-07/?L=%27%3E%22%3E%3C%2Fscript%3E%3Csvg%2Fonload&tx_ttnews%5BbackPid%5D=23
END:VEVENT

END:VCALENDAR