BEGIN:VCALENDAR

METHOD:PUBLISH
PRODID:-//Typo3 CMS\, News Event Extension

VERSION:2.0


BEGIN:VEVENT
SEQUENCE:0
DTSTART:20200205T183000Z
DTEND:20200205T200000Z
DTSTAMP:20200812T080248Z
SUMMARY:Jackie Thomae: Brüder
LOCATION:
DESCRIPTION:Moderation: Nadja Erb (Frankfurter Rundschau)
UID:tt_news1720@literaturhaus-frankfurt.de

URL;VALUE=URI:https://literaturhaus-frankfurt.de/https://literaturhaus-frankfurt.de/programm/termine/jackie-thomae-brueder-2020-02-05/?tx_ttnews%5BbackPid%5D=23
END:VEVENT

END:VCALENDAR