BEGIN:VCALENDAR

METHOD:PUBLISH
PRODID:-//Typo3 CMS\, News Event Extension

VERSION:2.0


BEGIN:VEVENT
SEQUENCE:0
DTSTART:20250305T183000Z
DTEND:20250305T200000Z
DTSTAMP:20250306T105437Z
SUMMARY:Heinrich Heine: Deutschland. Ein Wintermärchen
LOCATION:
DESCRIPTION:Hybridveranstaltung\r\nmit Peter Zimmermann
UID:tt_news2535@literaturhaus-frankfurt.de

URL;VALUE=URI:https://literaturhaus-frankfurt.de/https://literaturhaus-frankfurt.de/programm/termine/heinrich-heine-deutschland-ein-wintermaerchen-2025-03-05/?tx_ttnews%5BbackPid%5D=23
END:VEVENT

END:VCALENDAR