BEGIN:VCALENDAR

METHOD:PUBLISH
PRODID:-//Typo3 CMS\, News Event Extension

VERSION:2.0


BEGIN:VEVENT
SEQUENCE:0
DTSTART:20260614T120000Z
DTEND:20260614T163000Z
DTSTAMP:20260420T080544Z
SUMMARY:Festivaleröffnung STADT LAND BUCH 26
LOCATION:
DESCRIPTION:Margit Auer\, Alexander Steffensmeier und vielfältiges Rahmenprogramm
UID:tt_news2870@literaturhaus-frankfurt.de

URL;VALUE=URI:https://literaturhaus-frankfurt.de/https://literaturhaus-frankfurt.de/programm/termine/festivaleroeffnung-stadt-land-buch-26-2026-06-14/?tx_ttnews%5BbackPid%5D=23
END:VEVENT

END:VCALENDAR