BEGIN:VCALENDAR

METHOD:PUBLISH
PRODID:-//Typo3 CMS\, News Event Extension

VERSION:2.0


BEGIN:VEVENT
SEQUENCE:0
DTSTART:20250216T183000Z
DTEND:20250216T200000Z
DTSTAMP:20250217T082802Z
SUMMARY:Édouard Louis: Monique bricht aus
LOCATION:
DESCRIPTION:Moderation (dt. / frz.): Eva-Maria Magel\r\nLesung deutscher Text: Christoph Pütthoff (Schauspiel Frankfurt)
UID:tt_news2528@literaturhaus-frankfurt.de

URL;VALUE=URI:https://literaturhaus-frankfurt.de/https://literaturhaus-frankfurt.de/programm/termine/edouard-louis-monique-bricht-aus-2025-02-16/?tx_ttnews%5BbackPid%5D=23
END:VEVENT

END:VCALENDAR