BEGIN:VCALENDAR

METHOD:PUBLISH
PRODID:-//Typo3 CMS\, News Event Extension

VERSION:2.0


BEGIN:VEVENT
SEQUENCE:0
DTSTART:20260311T183000Z
DTEND:20260311T200000Z
DTSTAMP:20260311T085100Z
SUMMARY:Colin Walsh: Kala
LOCATION:
DESCRIPTION:Hybridveranstaltung\r\nModeration: Margarete von Schwarzkopf\r\nLesung dt. Text: Christoph Pütthoff
UID:tt_news2824@literaturhaus-frankfurt.de

URL;VALUE=URI:https://literaturhaus-frankfurt.de/https://literaturhaus-frankfurt.de/programm/termine/colin-walsh-kala-2026-03-10/?tx_ttnews%5BbackPid%5D=23
END:VEVENT

END:VCALENDAR