BEGIN:VCALENDAR

METHOD:PUBLISH
PRODID:-//Typo3 CMS\, News Event Extension

VERSION:2.0


BEGIN:VEVENT
SEQUENCE:0
DTSTART:20650513T130000Z
DTEND:20650513T170000Z
DTSTAMP:20200812T080248Z
SUMMARY:Arundhati Roy: Das Ministerium des äußersten Glücks
LOCATION:Literaturhaus Frankfurt\, Schöne Aussicht 2\, 60311 Frankfurt am Main
DESCRIPTION:Moderation (dt. / engl.) Hans Jürgen Balmes (S. Fischer Verlag)\r\nDeutscher Text: Anna Böger
UID:tt_news1328@literaturhaus-frankfurt.de

URL;VALUE=URI:https://literaturhaus-frankfurt.de/https://literaturhaus-frankfurt.de/programm/termine/arundhati-roy-das-ministerium-des-aeussersten-gluecks-2017-09-06/?tx_ttnews%5BbackPid%5D=23
END:VEVENT

END:VCALENDAR