BEGIN:VCALENDAR

METHOD:PUBLISH
PRODID:-//Typo3 CMS\, News Event Extension

VERSION:2.0


BEGIN:VEVENT
SEQUENCE:0
DTSTART:20240619T173000Z
DTEND:20240619T190000Z
DTSTAMP:20240620T075616Z
SUMMARY:Aris Fioretos. Frankfurter Poetikvorlesungen – Abschlusslesung
LOCATION:
DESCRIPTION:Hybridveranstaltung\r\nModeration: Achim Geisenhanslüke (Goethe-Uni)
UID:tt_news2442@literaturhaus-frankfurt.de

URL;VALUE=URI:https://literaturhaus-frankfurt.de/https://literaturhaus-frankfurt.de/programm/termine/aris-fioretos-frankfurter-poetikvorlesungen-abschlusslesung-2024-06-19/?tx_ttnews%5BbackPid%5D=23
END:VEVENT

END:VCALENDAR