BEGIN:VCALENDAR

METHOD:PUBLISH
PRODID:-//Typo3 CMS\, News Event Extension

VERSION:2.0


BEGIN:VEVENT
SEQUENCE:0
DTSTART:20260615T083000Z
DTEND:20260615T100000Z
DTSTAMP:20260420T081915Z
SUMMARY:Antje Damm: Agathe 
LOCATION:
DESCRIPTION:Kinderbuchlesung für Vorschule\, Klasse 1 & 2\r\nin Frankfurt\r\nEintritt nach Anmeldung frei
UID:tt_news2889@literaturhaus-frankfurt.de

URL;VALUE=URI:https://literaturhaus-frankfurt.de/https://literaturhaus-frankfurt.de/programm/termine/antje-damm-agathe-2026-06-15/?tx_ttnews%5BbackPid%5D=23
END:VEVENT

END:VCALENDAR