BEGIN:VCALENDAR

METHOD:PUBLISH
PRODID:-//Typo3 CMS\, News Event Extension

VERSION:2.0


BEGIN:VEVENT
SEQUENCE:0
DTSTART:20260617T090000Z
DTEND:20260617T103000Z
DTSTAMP:20260420T081215Z
SUMMARY:Annette Mierswa: Der Scherbenpalast 
LOCATION:
DESCRIPTION:Jugendbuchlesung ab Klasse 9\r\nin Frankfurt 
UID:tt_news2886@literaturhaus-frankfurt.de

URL;VALUE=URI:https://literaturhaus-frankfurt.de/https://literaturhaus-frankfurt.de/programm/termine/annette-mierswa-der-scherbenpalast-2026-06-17/?tx_ttnews%5BbackPid%5D=23
END:VEVENT

END:VCALENDAR