BEGIN:VCALENDAR

METHOD:PUBLISH
PRODID:-//Typo3 CMS\, News Event Extension

VERSION:2.0


BEGIN:VEVENT
SEQUENCE:0
DTSTART;VALUE=DATE:19700101
DTEND;VALUE=DATE:19700102
DTSTAMP:20200812T080218Z
SUMMARY:WÖRTERMEER
LOCATION:
DESCRIPTION:Comic-Workshop mit Ferdinand Lutz für 5. und 6. Klassen
UID:tt_news1702@literaturhaus-frankfurt.de

URL;VALUE=URI:https://literaturhaus-frankfurt.de/https://literaturhaus-frankfurt.de/programm/termine/woertermeer-2020-03-03/?tx_ttnews%5BbackPid%5D=70
END:VEVENT

END:VCALENDAR