BEGIN:VCALENDAR

METHOD:PUBLISH
PRODID:-//Typo3 CMS\, News Event Extension

VERSION:2.0


BEGIN:VEVENT
SEQUENCE:0
DTSTART:20190603T080000Z
DTEND:20190605T120000Z
DTSTAMP:20200812T080248Z
SUMMARY:WÖRTERMEER 
LOCATION:
DESCRIPTION:Poetry Slam mit Dalibor Markovic für 10. und 11. Klassen
UID:tt_news1544@literaturhaus-frankfurt.de

URL;VALUE=URI:https://literaturhaus-frankfurt.de/https://literaturhaus-frankfurt.de/programm/termine/woertermeer-2019-06-03/?tx_ttnews%5BbackPid%5D=70
END:VEVENT

END:VCALENDAR