BEGIN:VCALENDAR

METHOD:PUBLISH
PRODID:-//Typo3 CMS\, News Event Extension

VERSION:2.0


BEGIN:VEVENT
SEQUENCE:0
DTSTART:20590531T130000Z
DTEND:20590531T170000Z
DTSTAMP:20200812T080248Z
SUMMARY:Wilhelm Genazino: Bei Regen im Saal
LOCATION:Literaturhaus Frankfurt\, Schöne Aussicht 2\, 60311 Frankfurt am Main
DESCRIPTION:Moderation: Insa Wilke (Literaturkritikerin)
UID:tt_news828@literaturhaus-frankfurt.de

URL;VALUE=URI:https://literaturhaus-frankfurt.de/https://literaturhaus-frankfurt.de/programm/termine/wilhelm-genazino-bei-regen-im-saal-2014-09-15/?tx_ttnews%5BbackPid%5D=70
END:VEVENT

END:VCALENDAR