BEGIN:VCALENDAR

METHOD:PUBLISH
PRODID:-//Typo3 CMS\, News Event Extension

VERSION:2.0


BEGIN:VEVENT
SEQUENCE:0
DTSTART:20200429T080000Z
DTEND:20200429T123000Z
DTSTAMP:20200812T080248Z
SUMMARY:Verschoben! WÖRTERMEER
LOCATION:
DESCRIPTION:Schreibwerkstatt mit Arne Rautenberg für 7. und 8. Klassen
UID:tt_news1707@literaturhaus-frankfurt.de

URL;VALUE=URI:https://literaturhaus-frankfurt.de/https://literaturhaus-frankfurt.de/programm/termine/verschoben-woertermeer-2020-04-29/?tx_ttnews%5BbackPid%5D=70
END:VEVENT

END:VCALENDAR