BEGIN:VCALENDAR

METHOD:PUBLISH
PRODID:-//Typo3 CMS\, News Event Extension

VERSION:2.0


BEGIN:VEVENT
SEQUENCE:0
DTSTART:20200427T173000Z
DTEND:20200427T190000Z
DTSTAMP:20200812T080248Z
SUMMARY:Verschoben! Bov Bjerg: Serpentinen
LOCATION:
DESCRIPTION:
UID:tt_news1759@literaturhaus-frankfurt.de

URL;VALUE=URI:https://literaturhaus-frankfurt.de/https://literaturhaus-frankfurt.de/programm/termine/verschoben-bov-bjerg-serpentinen-2020-04-27/?tx_ttnews%5BbackPid%5D=70
END:VEVENT

END:VCALENDAR