BEGIN:VCALENDAR

METHOD:PUBLISH
PRODID:-//Typo3 CMS\, News Event Extension

VERSION:2.0


BEGIN:VEVENT
SEQUENCE:0
DTSTART:20200422T173000Z
DTEND:20200422T190000Z
DTSTAMP:20200812T080218Z
SUMMARY:Verschoben! ACHT VISIONEN VII & VIII
LOCATION:
DESCRIPTION:Mariana Leky und Lukas Rietzschel\r\nZukunft. Arbeit. Literatur.
UID:tt_news1632@literaturhaus-frankfurt.de

URL;VALUE=URI:https://literaturhaus-frankfurt.de/https://literaturhaus-frankfurt.de/programm/termine/verschoben-acht-visionen-vii-viii-2020-04-22/?tx_ttnews%5BbackPid%5D=70
END:VEVENT

END:VCALENDAR