BEGIN:VCALENDAR

METHOD:PUBLISH
PRODID:-//Typo3 CMS\, News Event Extension

VERSION:2.0


BEGIN:VEVENT
SEQUENCE:0
DTSTART:20601101T130000Z
DTEND:20601101T170000Z
DTSTAMP:20200812T080248Z
SUMMARY:Ursula Ackrill: Zeiden\, im Januar
LOCATION:Literaturhaus Frankfurt\, Schöne Aussicht 2\, 60311 Frankfurt am Main
DESCRIPTION:
UID:tt_news941@literaturhaus-frankfurt.de

URL;VALUE=URI:https://literaturhaus-frankfurt.de/https://literaturhaus-frankfurt.de/programm/termine/ursula-ackrill-zeiden-im-januar-2015-06-02/?tx_ttnews%5BbackPid%5D=70
END:VEVENT

END:VCALENDAR