BEGIN:VCALENDAR

METHOD:PUBLISH
PRODID:-//Typo3 CMS\, News Event Extension

VERSION:2.0


BEGIN:VEVENT
SEQUENCE:0
DTSTART:20590622T130000Z
DTEND:20590622T170000Z
DTSTAMP:20200812T080248Z
SUMMARY:Streitfall – Autoren in der Kontroverse LIX
LOCATION:Literaturhaus Frankfurt\, Schöne Aussicht 2\, 60311 Frankfurt am Main
DESCRIPTION:Mit Ulrich Raulff\, Ulrike Ackermann\, Jochen Hörisch\, Martin Lüdke\r\nGesprächsleitung: Peter Kemper (hr2-kultur)
UID:tt_news849@literaturhaus-frankfurt.de

URL;VALUE=URI:https://literaturhaus-frankfurt.de/https://literaturhaus-frankfurt.de/programm/termine/streitfall-autoren-in-der-kontroverse-lix-2014-09-26/?tx_ttnews%5BbackPid%5D=70
END:VEVENT

END:VCALENDAR