BEGIN:VCALENDAR

METHOD:PUBLISH
PRODID:-//Typo3 CMS\, News Event Extension

VERSION:2.0


BEGIN:VEVENT
SEQUENCE:0
DTSTART:20590521T130000Z
DTEND:20590521T170000Z
DTSTAMP:20200812T080248Z
SUMMARY:Stewart O‘Nan: Die Chance
LOCATION:Literaturhaus Frankfurt\, Schöne Aussicht 2\, 60311 Frankfurt am Main
DESCRIPTION:Moderation dt./engl.: Felicitas von Lovenberg (F.A.Z.) 
UID:tt_news827@literaturhaus-frankfurt.de

URL;VALUE=URI:https://literaturhaus-frankfurt.de/https://literaturhaus-frankfurt.de/programm/termine/stewart-onan-die-chance-2014-09-10/?tx_ttnews%5BbackPid%5D=70
END:VEVENT

END:VCALENDAR