BEGIN:VCALENDAR

METHOD:PUBLISH
PRODID:-//Typo3 CMS\, News Event Extension

VERSION:2.0


BEGIN:VEVENT
SEQUENCE:0
DTSTART:20601213T130000Z
DTEND:20601213T170000Z
DTSTAMP:20200812T080248Z
SUMMARY:Schöne Aussichten – Das Frankfurter Literaturgespräch XXVII 
LOCATION:Literaturhaus Frankfurt\, Schöne Aussicht 2\, 60311 Frankfurt am Main
DESCRIPTION:Mit Kristof Magnusson\, Mara Delius\, Alf Mentzer und Hubert Spiegel
UID:tt_news946@literaturhaus-frankfurt.de

URL;VALUE=URI:https://literaturhaus-frankfurt.de/https://literaturhaus-frankfurt.de/programm/termine/schoene-aussichten-das-frankfurter-literaturgespraech-xxvii-2015-06-23/?tx_ttnews%5BbackPid%5D=70
END:VEVENT

END:VCALENDAR