BEGIN:VCALENDAR

METHOD:PUBLISH
PRODID:-//Typo3 CMS\, News Event Extension

VERSION:2.0


BEGIN:VEVENT
SEQUENCE:0
DTSTART:20590519T130000Z
DTEND:20590519T170000Z
DTSTAMP:20200812T080248Z
SUMMARY:Schöne Aussichten – Das Frankfurter Literaturgespräch XXIV
LOCATION:Literaturhaus Frankfurt\, Schöne Aussicht 2\, 60311 Frankfurt am Main
DESCRIPTION:Mit Terézia Mora\, Mara Delius\, Alf Mentzer\, Hubert Spiegel
UID:tt_news826@literaturhaus-frankfurt.de

URL;VALUE=URI:https://literaturhaus-frankfurt.de/https://literaturhaus-frankfurt.de/programm/termine/schoene-aussichten-das-frankfurter-literaturgespraech-xxiv-2014-09-09/?tx_ttnews%5BbackPid%5D=70
END:VEVENT

END:VCALENDAR