BEGIN:VCALENDAR

METHOD:PUBLISH
PRODID:-//Typo3 CMS\, News Event Extension

VERSION:2.0


BEGIN:VEVENT
SEQUENCE:0
DTSTART:20590712T130000Z
DTEND:20590712T170000Z
DTSTAMP:20200812T080248Z
SUMMARY:Satumaa* – Cool Tango-Abend auf finnische Art
LOCATION:Literaturhaus Frankfurt\, Schöne Aussicht 2\, 60311 Frankfurt am Main
DESCRIPTION:FINNLAND. COOL. FRANKFURTER BUCHMESSE. EHRENGAST 2014
UID:tt_news851@literaturhaus-frankfurt.de

URL;VALUE=URI:https://literaturhaus-frankfurt.de/https://literaturhaus-frankfurt.de/programm/termine/satumaa-cool-tango-abend-auf-finnische-art-2014-10-06/?tx_ttnews%5BbackPid%5D=70
END:VEVENT

END:VCALENDAR