BEGIN:VCALENDAR

METHOD:PUBLISH
PRODID:-//Typo3 CMS\, News Event Extension

VERSION:2.0


BEGIN:VEVENT
SEQUENCE:0
DTSTART:20190529T173000Z
DTEND:20190529T190000Z
DTSTAMP:20200812T080218Z
SUMMARY:Sasa Stanisic: Herkunft
LOCATION:
DESCRIPTION:Moderation: Anna Engel (hr2-kultur)
UID:tt_news1609@literaturhaus-frankfurt.de

URL;VALUE=URI:https://literaturhaus-frankfurt.de/https://literaturhaus-frankfurt.de/programm/termine/sasa-stanisic-herkunft-2019-05-29/?tx_ttnews%5BbackPid%5D=70
END:VEVENT

END:VCALENDAR