BEGIN:VCALENDAR

METHOD:PUBLISH
PRODID:-//Typo3 CMS\, News Event Extension

VERSION:2.0


BEGIN:VEVENT
SEQUENCE:0
DTSTART:20601020T130000Z
DTEND:20601020T170000Z
DTSTAMP:20200812T080218Z
SUMMARY:Mark Terkessidis: Was zusammenhält – Eine Theorie der Kollaboration
LOCATION:Literaturhaus Frankfurt\, Schöne Aussicht 2\, 60311 Frankfurt am Main
DESCRIPTION:
UID:tt_news938@literaturhaus-frankfurt.de

URL;VALUE=URI:https://literaturhaus-frankfurt.de/https://literaturhaus-frankfurt.de/programm/termine/mark-terkessidis-was-zusammenhaelt-eine-theorie-der-kollaboration-2015-05-27/?tx_ttnews%5BbackPid%5D=70
END:VEVENT

END:VCALENDAR