BEGIN:VCALENDAR

METHOD:PUBLISH
PRODID:-//Typo3 CMS\, News Event Extension

VERSION:2.0


BEGIN:VEVENT
SEQUENCE:0
DTSTART;VALUE=DATE:19700101
DTEND;VALUE=DATE:19700102
DTSTAMP:20200812T080218Z
SUMMARY:Lesezirkel
LOCATION:
DESCRIPTION:Eine Veranstaltung für Mitglieder des Literaturhausvereins
UID:tt_news1621@literaturhaus-frankfurt.de

URL;VALUE=URI:https://literaturhaus-frankfurt.de/https://literaturhaus-frankfurt.de/programm/termine/lesezirkel-2019-06-04/?tx_ttnews%5BbackPid%5D=70
END:VEVENT

END:VCALENDAR