BEGIN:VCALENDAR

METHOD:PUBLISH
PRODID:-//Typo3 CMS\, News Event Extension

VERSION:2.0


BEGIN:VEVENT
SEQUENCE:0
DTSTART:20601101T130156Z
DTEND:20601101T170156Z
DTSTAMP:20200812T080248Z
SUMMARY:Lesezirkel
LOCATION:Literaturhaus Frankfurt\, Schöne Aussicht 2\, 60311 Frankfurt am Main
DESCRIPTION:Eine Veranstaltung für Mitglieder des Literaturhausvereins
UID:tt_news922@literaturhaus-frankfurt.de

URL;VALUE=URI:https://literaturhaus-frankfurt.de/https://literaturhaus-frankfurt.de/programm/termine/lesezirkel-2015-06-02/?tx_ttnews%5BbackPid%5D=70
END:VEVENT

END:VCALENDAR