BEGIN:VCALENDAR

METHOD:PUBLISH
PRODID:-//Typo3 CMS\, News Event Extension

VERSION:2.0


BEGIN:VEVENT
SEQUENCE:0
DTSTART:20590704T120000Z
DTEND:20590704T160000Z
DTSTAMP:20200812T080248Z
SUMMARY:Kolleg Schöne Aussicht
LOCATION:Literaturhaus Frankfurt\, Schöne Aussicht 2\, 60311 Frankfurt am Main
DESCRIPTION:Das Literaturhaus für Lehrer
UID:tt_news836@literaturhaus-frankfurt.de

URL;VALUE=URI:https://literaturhaus-frankfurt.de/https://literaturhaus-frankfurt.de/programm/termine/kolleg-schoene-aussicht-2014-10-02/?tx_ttnews%5BbackPid%5D=70
END:VEVENT

END:VCALENDAR