BEGIN:VCALENDAR

METHOD:PUBLISH
PRODID:-//Typo3 CMS\, News Event Extension

VERSION:2.0


BEGIN:VEVENT
SEQUENCE:0
DTSTART:20590602T130000Z
DTEND:20590602T170000Z
DTSTAMP:20200812T080248Z
SUMMARY:Judith Hermann: Aller Liebe Anfang
LOCATION:Literaturhaus Frankfurt\, Schöne Aussicht 2\, 60311 Frankfurt am Main
DESCRIPTION:
UID:tt_news829@literaturhaus-frankfurt.de

URL;VALUE=URI:https://literaturhaus-frankfurt.de/https://literaturhaus-frankfurt.de/programm/termine/judith-hermann-aller-liebe-anfang-2014-09-16/?tx_ttnews%5BbackPid%5D=70
END:VEVENT

END:VCALENDAR