BEGIN:VCALENDAR

METHOD:PUBLISH
PRODID:-//Typo3 CMS\, News Event Extension

VERSION:2.0


BEGIN:VEVENT
SEQUENCE:0
DTSTART:20190606T173000Z
DTEND:20190606T190000Z
DTSTAMP:20200812T080248Z
SUMMARY:Joey Goebel: Irgendwann wird es gut
LOCATION:
DESCRIPTION:Moderation (dt./engl.): Fridtjof Küchemann (F.A.Z.)\r\nDeutscher Text: Stéphane Bittoun
UID:tt_news1612@literaturhaus-frankfurt.de

URL;VALUE=URI:https://literaturhaus-frankfurt.de/https://literaturhaus-frankfurt.de/programm/termine/joey-goebel-irgendwann-wird-es-gut-2019-06-06/?tx_ttnews%5BbackPid%5D=70
END:VEVENT

END:VCALENDAR