BEGIN:VCALENDAR

METHOD:PUBLISH
PRODID:-//Typo3 CMS\, News Event Extension

VERSION:2.0


BEGIN:VEVENT
SEQUENCE:0
DTSTART:20190611T173000Z
DTEND:20190611T190000Z
DTSTAMP:20200812T080248Z
SUMMARY:Im Branchendrehkreuz: Friedenauer Presse
LOCATION:
DESCRIPTION:Mit Friederike Jacob\, Pauline Altmann\, Sarah Bärtschi\, Nadine Göpfert und Denis Scheck
UID:tt_news1613@literaturhaus-frankfurt.de

URL;VALUE=URI:https://literaturhaus-frankfurt.de/https://literaturhaus-frankfurt.de/programm/termine/im-branchendrehkreuz-friedenauer-presse-2019-06-11/?tx_ttnews%5BbackPid%5D=70
END:VEVENT

END:VCALENDAR