BEGIN:VCALENDAR

METHOD:PUBLISH
PRODID:-//Typo3 CMS\, News Event Extension

VERSION:2.0


BEGIN:VEVENT
SEQUENCE:0
DTSTART:20590614T130000Z
DTEND:20590614T170000Z
DTSTAMP:20200812T080248Z
SUMMARY:Hanswursts Hochzeit – Burleske Szenen aus Goethes geheimen Erotica
LOCATION:Literaturhaus Frankfurt\, Schöne Aussicht 2\, 60311 Frankfurt am Main
DESCRIPTION:Mit Susanne Schäfer\, Helge Heynold\, Michael Quast
UID:tt_news845@literaturhaus-frankfurt.de

URL;VALUE=URI:https://literaturhaus-frankfurt.de/https://literaturhaus-frankfurt.de/programm/termine/hanswursts-hochzeit-burleske-szenen-aus-goethes-geheimen-erotica-2014-09-22/?tx_ttnews%5BbackPid%5D=70
END:VEVENT

END:VCALENDAR