BEGIN:VCALENDAR

METHOD:PUBLISH
PRODID:-//Typo3 CMS\, News Event Extension

VERSION:2.0


BEGIN:VEVENT
SEQUENCE:0
DTSTART:20190528T173000Z
DTEND:20190528T190000Z
DTSTAMP:20200812T080218Z
SUMMARY:Gelebtes Leben. Denker der Freiheit im Porträt: Karl Popper
LOCATION:
DESCRIPTION:Mit Thea Dorn und Friedrich Merz  \r\nModeration: Rainer Hank (F.A.Z.)
UID:tt_news1617@literaturhaus-frankfurt.de

URL;VALUE=URI:https://literaturhaus-frankfurt.de/https://literaturhaus-frankfurt.de/programm/termine/gelebtes-leben-denker-der-freiheit-im-portraet-karl-popper-2019-05-28/?tx_ttnews%5BbackPid%5D=70
END:VEVENT

END:VCALENDAR